BEGIN:VCALENDAR
VERSION:2.0
METHOD:PUBLISH
X-WR-CALNAME:რუსთავის საბიბლიოთეკო გაერთიანება |  ოქტომბერი 22 2015- ნოემბერი 21 2015
PRODID:-//strange bird labs//Drupal iCal API//EN
BEGIN:VEVENT
DTSTAMP;VALUE=DATE-TIME:20260422T032028Z
DTSTART;VALUE=DATE-TIME:20151112T090000Z
DTEND;VALUE=DATE-TIME:20151112T090000Z
UID:http://www.rustavibiblio.ge/node/318
URL;VALUE=URI:http://www.rustavibiblio.ge/node/318
SUMMARY:შეხვედრა
DESCRIPTION:<p>ხვალ 12 ნოემბერს 14 საათზე\, რუსთავის მთვარ ბიბლიოთეკაში\, მის.</p>
 
END:VEVENT
END:VCALENDAR
