BEGIN:VCALENDAR
VERSION:2.0
METHOD:PUBLISH
X-WR-CALNAME:რუსთავის საბიბლიოთეკო გაერთიანება |  მაისი 31 2015- ივნისი 30 2015
PRODID:-//strange bird labs//Drupal iCal API//EN
BEGIN:VEVENT
DTSTAMP;VALUE=DATE-TIME:20260421T160508Z
DTSTART;VALUE=DATE-TIME:20150601T075700Z
DTEND;VALUE=DATE-TIME:20150601T075700Z
UID:http://www.rustavibiblio.ge/node/281
URL;VALUE=URI:http://www.rustavibiblio.ge/node/281
SUMMARY:ღონისძიება
DESCRIPTION:<p>დღეს ილია ჭავჭავაძის სახელობის ცენტრალური ბიბლიოთეკის პატარა მკითხველებისთვის საინტერესო და სახალისო აქტივობების დღე მოვაწყვეთ. ბავშვთა დაცვის საერთაშორისო დღის აღსანიშნავად\, ბავშვებმა ერთად დახატეს ასფალტზე\, ითამაშეს X_BOX ვიდეო თამაშები და იმხიარულეს.</p>
 
END:VEVENT
BEGIN:VEVENT
DTSTAMP;VALUE=DATE-TIME:20260421T160508Z
DTSTART;VALUE=DATE-TIME:20150601T080300Z
DTEND;VALUE=DATE-TIME:20150601T080300Z
UID:http://www.rustavibiblio.ge/node/282
URL;VALUE=URI:http://www.rustavibiblio.ge/node/282
SUMMARY:ღონისძიება
DESCRIPTION:<p>1 ივნისს ბავშვთა დაცვის საერთაშორისო დღე აღინიშნა საბავშვო ბიბლიოთეკა \\"ნაკადულში\\". 24-ე ქართული გომნაზიის მე-2 კლასის მოსწავლეები საბავშვო შემეცნებით-გასართობ ტელევიზია \\"ცისარტყელას\\" წარმომადგენელს\, ნინო ლარცულიანს შეხვდნენ.</p>
 
END:VEVENT
BEGIN:VEVENT
DTSTAMP;VALUE=DATE-TIME:20260421T160508Z
DTSTART;VALUE=DATE-TIME:20150610T093900Z
DTEND;VALUE=DATE-TIME:20150610T093900Z
UID:http://www.rustavibiblio.ge/node/285
URL;VALUE=URI:http://www.rustavibiblio.ge/node/285
SUMMARY:პრეზენტაცია
DESCRIPTION:<p>10 ივნისს\, 12 საათზე \\"ნაკადულში\\" მოეწყო პრეზენტაცია ნინო ლარცულიანის წიგნისა - \\"ანბანო მამიკო\, ფონეტიკა დედიკო და მხიარული ასოები\\". პატარა მკითხველებმა ავტორისაგან მოისმინეს\, თუ როგორ იქმნებოდა ზღაპარი\, რომელიც ქართულ ანბანს ეძღვნება და უამრავი მხიარული და საგულისხმო ამბავიც შეიტყვეს.</p>
 
END:VEVENT
BEGIN:VEVENT
DTSTAMP;VALUE=DATE-TIME:20260421T160508Z
DTSTART;VALUE=DATE-TIME:20150624T094200Z
DTEND;VALUE=DATE-TIME:20150624T094200Z
UID:http://www.rustavibiblio.ge/node/286
URL;VALUE=URI:http://www.rustavibiblio.ge/node/286
SUMMARY:შემოქმედებითი საღამო
DESCRIPTION:<p>23 ივნისს\, მთავარ ბიბლიოთეკაში გაიმართა ჟურნალისტისა და პუბლიცისტის\, ქალბატონ ლია მარტაშვილის დაბადებიდან 70 წლისთავთან დაკავშირებული შემოქმედებითი საღამო. საღამოს ესწრებოდნენ ქალაქის ხელმძღვანელობისა და შემოქმედებითი სფეროს წარმომადგენლები.</p>
 
END:VEVENT
END:VCALENDAR
