BEGIN:VCALENDAR
VERSION:2.0
METHOD:PUBLISH
X-WR-CALNAME:რუსთავის საბიბლიოთეკო გაერთიანება |  თებერვალი 11 2015- მარტი 13 2015
PRODID:-//strange bird labs//Drupal iCal API//EN
BEGIN:VEVENT
DTSTAMP;VALUE=DATE-TIME:20260424T065534Z
DTSTART;VALUE=DATE-TIME:20150312T094200Z
DTEND;VALUE=DATE-TIME:20150312T094200Z
UID:http://www.rustavibiblio.ge/node/245
URL;VALUE=URI:http://www.rustavibiblio.ge/node/245
SUMMARY:ღონისძიება
DESCRIPTION:<p>ნიკოლოზ ბარათაშვილის სახელობის მე-3 საქალაქო–საბავშვო ბიბლიოთეკაში დედის დღესთან დაკავშირებით მოეწყო გამოფენა \,\,მიყვარხარ...მიყვარხარ... დედა! \\". მონაწილეობა მიიღეს ბიბლიოთეკის პატარ მკითხველებმა\, მათ ნახატებთან ერთად გააკეთეს მისალოცი ღია ბარათებიც.</p>
 
END:VEVENT
END:VCALENDAR
