BEGIN:VCALENDAR
VERSION:2.0
METHOD:PUBLISH
X-WR-CALNAME:რუსთავის საბიბლიოთეკო გაერთიანება |  ნოემბერი 15 2014- დეკემბერი 15 2014
PRODID:-//strange bird labs//Drupal iCal API//EN
BEGIN:VEVENT
DTSTAMP;VALUE=DATE-TIME:20260423T052540Z
DTSTART;VALUE=DATE-TIME:20141205T060000Z
DTEND;VALUE=DATE-TIME:20141205T060000Z
UID:http://www.rustavibiblio.ge/node/234
URL;VALUE=URI:http://www.rustavibiblio.ge/node/234
SUMMARY:ლიტერატურული დილა
DESCRIPTION:<p>ა.ა.ი.პ რუსთავის საბიბლიოთეკი გაერთიანების მე-2 საბავშვო ფილიალ &nbsp\;ნაკადულში \,5 დეკემბერს 11\:00 საათზე &nbsp\;ჩატარდა ლიტერატურული დილა\, რომელიც საბავშვო მწერალ ჯანსუღ ნიქაბაძის 85 წლის იუბილეს მიეძღვნა.</p>
 
END:VEVENT
BEGIN:VEVENT
DTSTAMP;VALUE=DATE-TIME:20260423T052540Z
DTSTART;VALUE=DATE-TIME:20141211T070000Z
DTEND;VALUE=DATE-TIME:20141211T070000Z
UID:http://www.rustavibiblio.ge/node/235
URL;VALUE=URI:http://www.rustavibiblio.ge/node/235
SUMMARY:სტუმრად ბიბლიოთეკაში
DESCRIPTION:<p>11 დეკემბერს 12\:00 საათზე საბავშვო ბიბლიოთეკა \,\,ნაკადულს'' ნორჩი ჟურნალისტები სტუმრობდნენ. 24-ე ქართული გიმნაზიის მე-3 ბ კლასის მოსწავლეების კითხვებს ფილიალის გამგე\, ნაზი შერმადინი პასუხობდა.</p>
 
END:VEVENT
END:VCALENDAR
