BEGIN:VCALENDAR
VERSION:2.0
METHOD:PUBLISH
X-WR-CALNAME:რუსთავის საბიბლიოთეკო გაერთიანება |  ივნისი 21 2014- ივლისი 21 2014
PRODID:-//strange bird labs//Drupal iCal API//EN
BEGIN:VEVENT
DTSTAMP;VALUE=DATE-TIME:20260419T213938Z
DTSTART;VALUE=DATE-TIME:20140701T110000Z
DTEND;VALUE=DATE-TIME:20140701T110000Z
UID:http://www.rustavibiblio.ge/node/221
URL;VALUE=URI:http://www.rustavibiblio.ge/node/221
SUMMARY:შემოქმედებითი საღამო
DESCRIPTION:<p>2014 წლის 1 ივლისს\, რუსთავის მთავარ ბიბლიოთეკაში ჩატარდა შეხვედრა მწერალ მურად ჭოლოკავასთან.</p>
 
END:VEVENT
END:VCALENDAR
