BEGIN:VCALENDAR
VERSION:2.0
METHOD:PUBLISH
X-WR-CALNAME:რუსთავის საბიბლიოთეკო გაერთიანება |  ოქტომბერი 07 2012- ნოემბერი 06 2012
PRODID:-//strange bird labs//Drupal iCal API//EN
BEGIN:VEVENT
DTSTAMP;VALUE=DATE-TIME:20260419T225801Z
DTSTART;VALUE=DATE-TIME:20121024T100000Z
DTEND;VALUE=DATE-TIME:20121024T100000Z
UID:http://www.rustavibiblio.ge/node/71
URL;VALUE=URI:http://www.rustavibiblio.ge/node/71
SUMMARY:\\"იკითხე და გაიმარჯვე\\"
DESCRIPTION:<p>რუსთავის საბიბლიოთეკო გაერთიანების ფილიალ \\"ნაკადულ\\"_ში გაიმართება კონკურსის \\"იკითხე და გაიმარჯვე\\" მონაწილეთა და გამარჯვებულთა დაჯილდოება.</p>
 
END:VEVENT
END:VCALENDAR
