BEGIN:VCALENDAR
VERSION:2.0
METHOD:PUBLISH
X-WR-CALNAME:რუსთავის საბიბლიოთეკო გაერთიანება |  აპრილი 20 2012- მაისი 20 2012
PRODID:-//strange bird labs//Drupal iCal API//EN
BEGIN:VEVENT
DTSTAMP;VALUE=DATE-TIME:20260423T120408Z
DTSTART;VALUE=DATE-TIME:20120423T100000Z
DTEND;VALUE=DATE-TIME:20120423T100000Z
UID:http://www.rustavibiblio.ge/node/31
URL;VALUE=URI:http://www.rustavibiblio.ge/node/31
SUMMARY:ბიბლიოთეკის კვირეული
DESCRIPTION:<p>ბიბლიოთეკის კვირეულის გახსნა</p>
 
END:VEVENT
BEGIN:VEVENT
DTSTAMP;VALUE=DATE-TIME:20260423T120408Z
DTSTART;VALUE=DATE-TIME:20120424T100000Z
DTEND;VALUE=DATE-TIME:20120424T100000Z
UID:http://www.rustavibiblio.ge/node/32
URL;VALUE=URI:http://www.rustavibiblio.ge/node/32
SUMMARY:ბიბლიოთეკის კვირეული
DESCRIPTION:<p>მოსწავლე-ახალგაზრდობის შემოქმედებითი საღამო</p>
 
END:VEVENT
BEGIN:VEVENT
DTSTAMP;VALUE=DATE-TIME:20260423T120408Z
DTSTART;VALUE=DATE-TIME:20120425T100000Z
DTEND;VALUE=DATE-TIME:20120425T100000Z
UID:http://www.rustavibiblio.ge/node/33
URL;VALUE=URI:http://www.rustavibiblio.ge/node/33
SUMMARY:ბიბლიოთეკის კვირეული
DESCRIPTION:<p>&nbsp\;ლია მარტაშვილის საიუბილეო საღამო.</p>
 
END:VEVENT
BEGIN:VEVENT
DTSTAMP;VALUE=DATE-TIME:20260423T120408Z
DTSTART;VALUE=DATE-TIME:20120426T100000Z
DTEND;VALUE=DATE-TIME:20120426T100000Z
UID:http://www.rustavibiblio.ge/node/34
URL;VALUE=URI:http://www.rustavibiblio.ge/node/34
SUMMARY:ბიბლიოთეკის კვირეული
DESCRIPTION:<p>\,\,პოეზიაში ამღერებული ჩემი ქალაქი\\"...</p>
 
END:VEVENT
BEGIN:VEVENT
DTSTAMP;VALUE=DATE-TIME:20260423T120408Z
DTSTART;VALUE=DATE-TIME:20120427T100000Z
DTEND;VALUE=DATE-TIME:20120427T100000Z
UID:http://www.rustavibiblio.ge/node/35
URL;VALUE=URI:http://www.rustavibiblio.ge/node/35
SUMMARY:ბიბლიოთეკის კვირეული
DESCRIPTION:<p>\,\,იყავი დედამიწის მეგობარი\\" American corner&nbsp\;</p>
 
END:VEVENT
BEGIN:VEVENT
DTSTAMP;VALUE=DATE-TIME:20260423T120408Z
DTSTART;VALUE=DATE-TIME:20120429T100100Z
DTEND;VALUE=DATE-TIME:20120429T100100Z
UID:http://www.rustavibiblio.ge/node/36
URL;VALUE=URI:http://www.rustavibiblio.ge/node/36
SUMMARY:ბიბლიოთეკის კვირეული
DESCRIPTION:<p>თაობათა გადაძახილი</p>
 
END:VEVENT
BEGIN:VEVENT
DTSTAMP;VALUE=DATE-TIME:20260423T120408Z
DTSTART;VALUE=DATE-TIME:20120430T100000Z
DTEND;VALUE=DATE-TIME:20120430T100000Z
UID:http://www.rustavibiblio.ge/node/37
URL;VALUE=URI:http://www.rustavibiblio.ge/node/37
SUMMARY:ბიბლიოთეკის კვირეული
DESCRIPTION:<p>ბიბლიოთეკის კვირეულის დახურვა. ბიბლიოთეკარის დღე</p>
 
END:VEVENT
BEGIN:VEVENT
DTSTAMP;VALUE=DATE-TIME:20260423T120408Z
DTSTART;VALUE=DATE-TIME:20120504T100000Z
DTEND;VALUE=DATE-TIME:20120504T100000Z
UID:http://www.rustavibiblio.ge/node/45
URL;VALUE=URI:http://www.rustavibiblio.ge/node/45
SUMMARY:შეხვედრა–ღონისძიება საბიბლიოთეკო გაერთიანების პირველ ფილიალში
DESCRIPTION:<p>&nbsp\;რუსთავის საბიბლიოთეკო გაერთიანების პირველ ფილიალში\, 4 მაისს წიგნის დღესთან დაკავშირებით გაიმართება ღონისძიება სახელწოდებით \\" წიგნები აზრის ხომალდებია\\".</p>
 
END:VEVENT
BEGIN:VEVENT
DTSTAMP;VALUE=DATE-TIME:20260423T120408Z
DTSTART;VALUE=DATE-TIME:20120515T083000Z
DTEND;VALUE=DATE-TIME:20120515T083000Z
UID:http://www.rustavibiblio.ge/node/62
URL;VALUE=URI:http://www.rustavibiblio.ge/node/62
SUMMARY:ქართული საგალობლები
DESCRIPTION:<p><strong>&nbsp\;რუსთავის საბიბლიოთეკო გაერთიანების მესამე ფილიალში 15 მაისს 13 სთ 30 წთ გაიმართება ლექცია\: ქართული საგალობლები (გიორგი კილაძე)&nbsp\;</strong></p>
 
END:VEVENT
BEGIN:VEVENT
DTSTAMP;VALUE=DATE-TIME:20260423T120408Z
DTSTART;VALUE=DATE-TIME:20120519T080000Z
DTEND;VALUE=DATE-TIME:20120519T080000Z
UID:http://www.rustavibiblio.ge/node/63
URL;VALUE=URI:http://www.rustavibiblio.ge/node/63
SUMMARY:ვიქტორინა–კონკურსი
DESCRIPTION:<p>19 მაისს 13 საათზე რუსთავის საბიბლიოთეკო გაერთიანების ფილიალ \\"ნაკადულ\\"–ში გაიმართება &nbsp\;ვიქტორინა–კონკურსი მიძღვნილი ჩარლზ დიკენსის დაბადების 200 წლისთავისადმი.</p>
 
END:VEVENT
END:VCALENDAR
